BEGIN:VCALENDAR
VERSION:2.0
PRODID:-//ChamberMaster//Event Calendar 2.0//EN
METHOD:PUBLISH
X-PUBLISHED-TTL:P3D
REFRESH-INTERVAL:P3D
CALSCALE:GREGORIAN
BEGIN:VEVENT
DTSTART:20190306T140000Z
DTEND:20190306T150000Z
X-MICROSOFT-CDO-ALLDAYEVENT:FALSE
SUMMARY:BNB 2018: Committee Meeting 09.05.2018
DESCRIPTION:BUSINESS NETWORKING BREAKFAST (BNB): Plan monthly educational/skill building/networking breakfasts: Secure speakers\, sponsors\, attendees. Meets 1 hour per month + attendance at event.
X-ALT-DESC;FMTTYPE=text/html:<span style="language:en-US\;font-weight:bold\;"><span style="color:black\;"><span style="font-family:calibri\;"><span style="font-size:16.0pt\;">BUSINESS NETWORKING BREAKFAST (BNB): </span></span></span></span><span style="language:en-US\;font-style:italic\;"><span style="color:black\;"><span style="font-family:calibri\;"><span style="font-size:14.0pt\;">Plan monthly educational/skill building/networking breakfasts: Secure speakers\, sponsors\, attendees. Meets 1 hour per month + attendance at event.</span></span></span></span>
LOCATION:EMACC Office 8 Reckless Place\, Suite 1 Red Bank\, NJ 07701
UID:e.3344.292
SEQUENCE:3
DTSTAMP:20260426T003700Z
URL:https://business.emacc.org/events/details/bnb-committee-meeting-03-06-2019-292
END:VEVENT

END:VCALENDAR
