BEGIN:VCALENDAR
VERSION:2.0
PRODID:-//ChamberMaster//Event Calendar 2.0//EN
METHOD:PUBLISH
X-PUBLISHED-TTL:P3D
REFRESH-INTERVAL:P3D
CALSCALE:GREGORIAN
BEGIN:VEVENT
DTSTART:20210720T120000Z
DTEND:20210720T130000Z
X-MICROSOFT-CDO-ALLDAYEVENT:FALSE
SUMMARY:EMACC Board Meeting
DESCRIPTION:EMACC Board Meeting\n\nBoard Members Only
X-ALT-DESC;FMTTYPE=text/html:EMACC Board Meeting<br />\nBoard Members Only
LOCATION:Jennifer Eckhoff\, EMACC is inviting you to a scheduled Zoom meeting. Topic: EMACC Board Meeting Time: Jul 20\, 2021 08:00 AM Eastern Time (US and Canada) Join Zoom Meeting https://us02web.zoom.us/j/83344218091?pwd=aVVCbHIzOEtBcnFjK1ZwM3hsZldtZz09 Meeting ID: 833 4421 8091 Passcode: 745563 One tap mobile +16468769923\,\,83344218091#\,\,\,\,*745563# US (New York) +13017158592\,\,83344218091#\,\,\,\,*745563# US (Washington DC) Dial by your location +1 646 876 9923 US (New York) +1 301 715 8592 US (Washington DC) +1 312 626 6799 US (Chicago) +1 346 248 7799 US (Houston) +1 408 638 0968 US (San Jose) +1 669 900 6833 US (San Jose) +1 253 215 8782 US (Tacoma) Meeting ID: 833 4421 8091 Passcode: 745563 Find your local number: https://us02web.zoom.us/u/kjwid3ZeU
UID:e.3344.58
SEQUENCE:3
DTSTAMP:20260420T175852Z
URL:https://business.emacc.org/events/details/emacc-board-meeting-07-20-2021-58
END:VEVENT

END:VCALENDAR
