BEGIN:VCALENDAR
VERSION:2.0
PRODID:-//ChamberMaster//Event Calendar 2.0//EN
METHOD:PUBLISH
X-PUBLISHED-TTL:P3D
REFRESH-INTERVAL:P3D
CALSCALE:GREGORIAN
BEGIN:VEVENT
DTSTART:20190328T130000Z
DTEND:20190328T140000Z
X-MICROSOFT-CDO-ALLDAYEVENT:FALSE
SUMMARY:Marketing Committee - Committee Meeting - MARKETING COMMITTEE
DESCRIPTION:We would use this time to set continue discussing the branding and value of EMACC and and EMACC membership.\n\n\n\nCreatively develop ways to reach our member communities and increase membership and value.
X-ALT-DESC;FMTTYPE=text/html:<span style="color: rgb(34\, 34\, 34)\; font-family: Arial\; font-size: 13.3333px\;">We would use this time to set continue discussing the branding and value of EMACC and and EMACC membership.</span><br />\n<br />\nCreatively develop ways to reach our member communities and increase membership and value.
LOCATION:EMACC Office 8 Reckless Place\, suit 1 Red Bank\, NJ 07701
UID:e.3344.798
SEQUENCE:3
DTSTAMP:20260426T005618Z
URL:https://business.emacc.org/events/details/marketing-committee-committee-meeting-marketing-committee-798
END:VEVENT

END:VCALENDAR
