BEGIN:VCALENDAR
VERSION:2.0
PRODID:-//ChamberMaster//Event Calendar 2.0//EN
METHOD:PUBLISH
X-PUBLISHED-TTL:P3D
REFRESH-INTERVAL:P3D
CALSCALE:GREGORIAN
BEGIN:VEVENT
DTSTART:20240909T183000Z
DTEND:20240909T193000Z
X-MICROSOFT-CDO-ALLDAYEVENT:FALSE
SUMMARY:WIB 2024: Committee Meeting on 9/9
DESCRIPTION:
X-ALT-DESC;FMTTYPE=text/html:
LOCATION:Absolute Home Mortgage Corporation - Team Cook 70 White Street Red Bank\, NJ 07701
UID:e.3344.3601
SEQUENCE:3
DTSTAMP:20260419T231556Z
URL:https://business.emacc.org/events/details/wib-2024-committee-meeting-on-9-9-3601
END:VEVENT

END:VCALENDAR
